BEGIN:VCALENDAR
VERSION:2.0
PRODID:-// - ECPv6.15.12.2//NONSGML v1.0//EN
CALSCALE:GREGORIAN
METHOD:PUBLISH
X-ORIGINAL-URL:https://www.swaptrinec.cz
X-WR-CALDESC:Akce na 
REFRESH-INTERVAL;VALUE=DURATION:PT1H
X-Robots-Tag:noindex
X-PUBLISHED-TTL:PT1H
BEGIN:VTIMEZONE
TZID:Europe/Prague
BEGIN:DAYLIGHT
TZOFFSETFROM:+0100
TZOFFSETTO:+0200
TZNAME:CEST
DTSTART:20250330T010000
END:DAYLIGHT
BEGIN:STANDARD
TZOFFSETFROM:+0200
TZOFFSETTO:+0100
TZNAME:CET
DTSTART:20251026T010000
END:STANDARD
BEGIN:DAYLIGHT
TZOFFSETFROM:+0100
TZOFFSETTO:+0200
TZNAME:CEST
DTSTART:20260329T010000
END:DAYLIGHT
BEGIN:STANDARD
TZOFFSETFROM:+0200
TZOFFSETTO:+0100
TZNAME:CET
DTSTART:20261025T010000
END:STANDARD
BEGIN:DAYLIGHT
TZOFFSETFROM:+0100
TZOFFSETTO:+0200
TZNAME:CEST
DTSTART:20270328T010000
END:DAYLIGHT
BEGIN:STANDARD
TZOFFSETFROM:+0200
TZOFFSETTO:+0100
TZNAME:CET
DTSTART:20271031T010000
END:STANDARD
END:VTIMEZONE
BEGIN:VEVENT
DTSTART;TZID=Europe/Prague:20260423T130000
DTEND;TZID=Europe/Prague:20260423T160000
DTSTAMP:20260425T224131
CREATED:20260323T221643Z
LAST-MODIFIED:20260409T074250Z
UID:579-1776949200-1776960000@www.swaptrinec.cz
SUMMARY:SWAP oblečení na Den Země
DESCRIPTION:Tento SWAP se bude netradičně konat ve čtvrtek 23. 4. 2026 v kulturním domě TRISIA.  Akce bude zahájena ve 13:00 a konec je naplánován na 16:00h. \nNestihli jste náš první jarní SWAP? Anebo třídíte skříně až teď? Máte možnost navštívit naši druhou akci\, kde se zaměříme na výměnu oblečení v tomto roce! \nA navíc\, v den oslav Dne Země\, kterou pořádá město Třinec. Kromě SWAPu bude v areálu na náměstí Svobody probíhat bohatý program. \nNa tuto akci předem neodebíráme žádné věci. Návštěvníci mohou věci nosit až v době SWAPu od 13:00 h\, nejpozději však do 15:00. \nPro tento odpolední SWAP platí pravidlo 1 taška dovnitř\, 1 taška ven. Klasická nákupní taška. \nA co budeme vyměňovat? Oblečení a boty – dámské\, pánské a dětské. \nJako vždy platí\, že je důležité k výměně nosit věci\, které jsou čisté a funkční. Takové\, jaké byste se nebáli podarovat svým kamarádům\, či známým. SWAP\, neboli výměna\, není odpadkový koš\, ale druhá šance nepoužívaným věcem. \nVSTUPNÉ je 100 Kč\, děti 50 Kč a děti do 5ti let ZDARMA. \nNOVINKA NA TOMTO SWAPU – HAPPY HOUR \nMezi 15:00 – 16:00 h platíte vstupné 100 Kč\, ale množství odnesených věcí není nijak limitován. \nTuto akci pořádáme ve spolupráci s odpadovou společností SMOLO a zároveň jsme součástí celorepublikové iniciativy SWAP festival. \nSledujte událost také na našem facebooku. \nZajímá vás\, jaké další akce chystáme? Sledujte výpis akcí na naše webu. \nDíky a těšíme se
URL:https://www.swaptrinec.cz/event/swap-obleceni-na-dni-zeme/
LOCATION:Kulturní dům TRISIA\, Náměstí svobody 526\, Třinec\, 73961\, Czech Republic
ATTACH;FMTTYPE=image/jpeg:https://www.swaptrinec.cz/wp-content/uploads/2026/03/plakat-den-zeme.jpeg
END:VEVENT
BEGIN:VEVENT
DTSTART;TZID=Europe/Prague:20260411T093000
DTEND;TZID=Europe/Prague:20260411T113000
DTSTAMP:20260425T224131
CREATED:20260323T214428Z
LAST-MODIFIED:20260325T070652Z
UID:570-1775899800-1775907000@www.swaptrinec.cz
SUMMARY:SWAP květin a knih
DESCRIPTION:Jak to bude probíhat? \n\nAkce bude probíhat vedle Domu dětí a mládeže v Třinci.\nRostliny a knihy na výměnu můžete nosit už od 9:00. Samotný swap začne v 9:30. \n\nCo se bude vyměňovat?\n Pokojové i venkovní květiny\, řízky\, flancky\, odkopky\, květináče\, semínka\, zahradnické náčiní i zahradní dekorace.\n Knihy\, které mohou ještě někomu udělat radost. Prosíme\, nenoste staré učebnice\, poškozené knihy nebo tituly\, o které už není zájem (například staré ročníky horoskopů apod.).Maximálně můžete přinést 10 knih. \n\nRostliny a knihy odevzdáte a na oplátku si odnesete to\, co vás zaujme.Zúčastnit se můžete i tehdy\, když na výměnu nic nemáte\, každý jednou začíná. \n\nOmezení počtu odnesených rostlin na této akci není. Myslete ale na to\, že všichni si chtějí z akce něco odnést. Opuštěním označeného prostoru však váš vstup propadá\, není tedy možné se pro rostliny a knihy vracet opakovaně. Rostliny budeme průběžně doplňovat. Prosíme všechny návštěvníky o ohleduplnost a respekt k ostatním. \n\n Nepodceňujte přípravu rostlin. Rostliny prosím popište\, lépe tak najdou nového majitele. Můžete připsat i barvu květů nebo podmínky pěstování. Pokud jmenovky zapomenete\, na místě budou připraveny papíry i tužky. Pokud máte velký trs trvalek\, rozdělte ho už doma na menší části\, aby se mohlo podělit více lidí. \n\n Pokud se objeví rostlina\, o kterou bude mít zájem více lidí\, zkuste se domluvit a podělit. Pokud je rostlina nedělitelná\, vezměte si kontakt na dárce nebo zájemce a domluvte se do budoucna. \n\n Na přenos jsou vhodné krabičky\, papírové tašky\, košíky nebo sáčky.\n Pokud nebudete vědět\, jakou rostlinu nesete\, můžete ji vyfotit a nahrát do aplikace PlantNet\, která slouží k rozpoznávání rostlin.\n Pro řízky budeme mít připravené sklenice a kelímky s vodou.\n Rostliny\, které si nikdo neodnese\, darujeme do školy\, domova pro seniory nebo jiného zařízení. \n\nVstupné:100 Kč\, děti ZDARMA \nSledujte také událost na facebooku\, kde průběžně uveřejňujeme aktuality. \nDalší akci chystáme na Dni Země 23. 4. v kulturním domě TRISIA. Vyměňovat se bude oblečení. Sledujte naše další akce.\nDíky a těšíme se ! \n \n  \n 
URL:https://www.swaptrinec.cz/event/swap-kvetin/
LOCATION:Dům dětí a mládeže – DDM\, Bezručova 66\, Třinec\, 73961\, Czech Republic
CATEGORIES:SWAP naživo
ATTACH;FMTTYPE=image/png:https://www.swaptrinec.cz/wp-content/uploads/2026/03/swap-kvetin.png
END:VEVENT
BEGIN:VEVENT
DTSTART;TZID=Europe/Prague:20260320T140000
DTEND;TZID=Europe/Prague:20260320T160000
DTSTAMP:20260425T224131
CREATED:20260305T224151Z
LAST-MODIFIED:20260305T231259Z
UID:508-1774015200-1774022400@www.swaptrinec.cz
SUMMARY:Jarní SWAP oblečení
DESCRIPTION:Pořádáme další SWAP naživo\, tentokrát v hale STARS – sportovní hale v Třinci. Měnit se bude výhradně oblečení! Protřiďte šatník\, vytáhněte věci\, které už nenosíte a pošlete je dál. Určitě udělají radost někomu dalšímu. Vzít si naopak můžete\, co se líbí vám. Tentokrát je množství omezeno na jednu klasickou tašku věcí. \nCo můžete nosit?\n Dámské oblečení Pánské oblečení Dětské oblečení Boty \nPřijímáme věci čisté\, funkční\, bez vad. Takové\, jaké byste darovali kamarádce\, rodině nebo dobrým známým. \n KDY můžete oblečení přinést?\nČtvrtek 19.3. den před akcí od 14:00 – 16:00 rovněž do HALY STARS\nMůžete přinést neomezené množství věcí. \nPátek 20.3. během akce můžete oblečení také nosit\nPřinést lze však pouze jednu tašku \nUdálost se koná v pátek 20.3. od 14.00 – 16:00 h v hale STARS. \nMnožství odnesených věcí je omezeno na jednu klasickou velikost igelitové tašky. Množství věcí bude kontrolováno u výstupu. \nChceme\, aby si mohlo vybrat co nejvíce z vás a aby byl swap férový pro všechny. Po celou dobu SWAPu budeme věci doplňovat.   \nVSTUPNÉ 100 KČ \n50 Kč děti \n\nDěti do 5 let zdarma\n\nOdkaz na událost na facebooku zde.
URL:https://www.swaptrinec.cz/event/jarni-swap-obleceni/
LOCATION:hala STARS\, Tyršova 275\, Třinec\, 73961
CATEGORIES:SWAP naživo
ATTACH;FMTTYPE=image/jpeg:https://www.swaptrinec.cz/wp-content/uploads/2026/03/Swap-obleceni-1-e1772751887807.jpeg
END:VEVENT
BEGIN:VEVENT
DTSTART;TZID=Europe/Prague:20260207T130000
DTEND;TZID=Europe/Prague:20260207T190000
DTSTAMP:20260425T224131
CREATED:20250119T213916Z
LAST-MODIFIED:20260121T090843Z
UID:170-1770469200-1770490800@www.swaptrinec.cz
SUMMARY:REUSE den v Třinci
DESCRIPTION:REUSE den je den nabitý inspirací ze života udržitelnosti. Čekají nás besedy se zajímavými hosty\, workshopy\, swap i interaktivní doprovodný program. \nProjekt REUSE den je forma zviditelnění témat a otázek\, které si dnes řada z nás pokládá. S příchodem levných nákupů z Číny\, které doslova zaplavují internet a naše domácnosti lidé často zapomínají na podstatu. Problémem je\, že jsme často ovlivněni reklamou\, obrázky\, instagramovými profily\, cenou. \nVelká část lidí snadno podlehne rychlým\, impulzivním nákupům všeho možného. Věci pak nosí na SWAP protože neví\, co s nimi. Anebo se jich zbaví\, ale co se s těmi věcmi děje pak? \nA co když jsme uvědomělí a nad nákupy přemýšlíme? Spousta výrobků má dnes různá označení. Jak poznáme\, jestli je výrobek opravdu fair a bezpečný? A jaké materiály jsou tedy dobré pro životní prostředí? \nOtázek a témat je celá řada. Chceme vám pomoct se v problematice zorientovat\, rozšířit si obzory a pomoct zjistit\, jaké existují alternativy. \nNás čas jsou naše peníze\, pojďme je investovat chytře. Do našich vztahů a vědomostí\, do kvality našeho života. Změna může nastat pouze pokud pochopíme souvislosti. \nA nebojte\, nebudete odcházet s depresí! Věříme\, že Vás REUSE den nabije! \nPROGRAM: \n\n13:25–14:30 Veronika Dušková VEDU ClothingJaká je skutečná cena našeho oblečení? \nNahlédneme za oponu módního průmyslu. Řekneme si\, co stojí za výrobou našeho\noblečení. Přednášku zakončíme praktickými tipy na budování udržitelného a stylového šatníku se studentským budgetem. \n\n14:45–15:45 Daniel Weber Human OddityJe udržitelná móda podvod? Jak poznat zodpovědnou oděvní značku. \nSpolečně se pobavíme o tom\, jaké marketingové a manipulační strategie využívají módní\nznačky\, aby nás přesvědčili o své „zelenosti” a jaké jsou způsoby\, jak tuhle PR masáž\nrozklíčovat a poznat skutečnou snahu o transparentnost a zodpovědnost. Na místě si v podobě\nmini-workshopu vyzkoušíme hledání těchto informací v reálném čase a společně\nprodiskutujeme\, co nám tato zjištění říkají o zodpovědnosti jednotlivých značek. \n\n16:00–16:50 Mirka Jopková\, Arnika  \nKolik odpadu skutečně vyprodukujeme a kam vlastně mizí? \nNa besedě se podíváme pod pokličku našich popelnic\, od plastů až po jídlo\, které zbytečně\nvyhazujeme. Dozvíte se překvapivá fakta o tom\, co končí na skládkách – a co by vůbec\nnemuselo. Čekají vás praktické tipy\, jak žít s menším množstvím odpadu bez zbytečných\nobětí. Přijďte zjistit\, co můžete změnit hned. \n\n17:00–17:20 Tereza Chwastková\, Eliška Srbecká\, Kristýna Kluzová SWAP TřinecReuse centra v ČR a zahraničí \nPředstavíme si principy REUSE center\, nahlédneme k nám i do zahraničí pro inspiraci a naladíme se na otevření REUSE centra v Třinci. \n\n17:30–18:50 Filmová projekce \n\n17:00–18:30 Workshopy – nutná registrace na místě\, kapacita je omezená1. Výroba voskovaných ubrousků2. Fotodesky ze starých diářů a třiček – doneste si kus látky\, ke které máte vazbu a vytvořte si s z ní fotodesky pro své vzpomínky. \n\nPo celou dobu akce bude probíhat doprovodný program:  \nSWAP (přines/odnes 10 věcí max)\, vstupné na swap 100 kč na osobuTRIANON – interaktivní výstava rozebírání věcí \nvermikompostování\, eko výstava\, dětský koutek\, upcyklační dílničky \n\nSledujte akci také na facebooku\, kde pravidelně přidáváme informace. \nSledujte také naše další akce v kalendáři akcí.  \nTento projekt vznikl za podpory Nadačního Fondu Hyundai a Nadace OSF.Děkujeme!
URL:https://www.swaptrinec.cz/event/reuse-den-v-trinci/
LOCATION:Knihovna Třinec\, Lidická 541\, Třinec\, 739 61
CATEGORIES:Osvětová akce
ATTACH;FMTTYPE=image/jpeg:https://www.swaptrinec.cz/wp-content/uploads/2025/01/reuse-den-uvod.jpg
END:VEVENT
BEGIN:VEVENT
DTSTART;TZID=Europe/Prague:20260118T130000
DTEND;TZID=Europe/Prague:20260118T150000
DTSTAMP:20260425T224131
CREATED:20251208T214148Z
LAST-MODIFIED:20260110T180547Z
UID:165-1768741200-1768748400@www.swaptrinec.cz
SUMMARY:LEDEN: Novoroční SWAP věcí
DESCRIPTION:Máte po Vánocích nějaké přebytky? Doufáme\, že ne. Ale myslíme si\, že ano. Je tady další SWAP\, neboli výměna. Tentokrát budeme vyměňovat věci. Z věcí můžete nosit vše do domácnosti\, sportovní potřeby\, hračky\, knihy\, nádobí apod. Protože se blíží čas karnevalů a plesů\, můžete nosit také karnevalové masky a plesové oděvy. \nŽádné další oblečení prosím nenoste! Jedná se o výměnu věcí\, tentokrát žádné oblečení ani boty přijímat nebudeme! (Vyjma kostýmy na karneval a plesové oděvy). \nTato výměna proběhne na novém místě a to v PZKO u 5 ZŠ. \nVěci můžete nosit již v pátek 16. 1. mezi 14-16 h na témže místě. \nJako vždy noste věci čisté\, neponičené\, v dobrém stavu\, připravené posloužit vašim sousedům\, známým i neznámým. \nV den konání výměny si můžete přijít vybrat\, co se hodí a líbí vám. Za žádné věci již neplatíte\, věci nemají cenovky. Vybírejte a berte si věci s rozvahou. \nAkce je určená všem\, komu záleží na našem okolí\, komukoliv\, kdo se chce účelně věcí zbavit a všem\, kdo cokoliv shání a upřednostňují věci z druhé ruky před nákupem nového. Vítáme i všechny zvědavce\, kteří se s tímto konceptem teprve seznamují. \nAktuality můžete sledovat také u události na Facebooku. \nVstupné 100 Kč. Děti zdarma. Těšíme se na Vás! \nSledujte další naše akce\, které pro Vás pořádáme.
URL:https://www.swaptrinec.cz/event/leden-novorocni-refresh-swap/
LOCATION:PZKO u 5 ZŠ\, Koperníkova 858\, Třinec\, 739 61
ATTACH;FMTTYPE=image/jpeg:https://www.swaptrinec.cz/wp-content/uploads/2025/12/swap-veci-2.jpg
END:VEVENT
END:VCALENDAR